BEGIN:VCALENDAR
VERSION:2.0
PRODID:Manteca, CA Calendar Creator
METHOD:PUBLISH
BEGIN:VEVENT
DTSTAMP:20260224T172505
DTSTART:20260504T180000
DTEND:20260504T210000
SUMMARY:Jedi Academy
DESCRIPTION:&nbsp;<h3 data-path-to-node="1"><b data-path-to-node="1" data-index-in-node="0">Jedi Academy</b></h3><ul data-path-to-node="2">    <li>    <p data-path-to-node="2,0,0"><b data-path-to-node="2,0,0" data-index-in-node="0">Title:</b> Jedi Academy</p>    </li>    <li>    <p data-path-to-node="2,1,0"><b data-path-to-node="2,1,0" data-index-in-node="0">Date/Time:</b> May 4, 2026, 6:00 pm – 9:00 pm</p>    </li>    <li>    <p data-path-to-node="2,2,0"><b data-path-to-node="2,2,0" data-index-in-node="0">Location:</b> Manteca Senior Center, 295 Cherry Ln, Manteca, CA 95337</p>    </li>    <li>    <p data-path-to-node="2,3,0"><b data-path-to-node="2,3,0" data-index-in-node="0">Details:</b> May the 4th be with you! Join the Jedi Academy for a night of training and fun.</p>    </li></ul><p>&nbsp;FOR MORE INFO, CONTACT US: 209.456.8600 RECREATION@MANTECA.GOV</p><p>&nbsp;</p>
X-ALT-DESC;FMTTYPE=text/html:&nbsp;<h3 data-path-to-node="1"><b data-path-to-node="1" data-index-in-node="0">Jedi Academy</b></h3><ul data-path-to-node="2">    <li>    <p data-path-to-node="2,0,0"><b data-path-to-node="2,0,0" data-index-in-node="0">Title:</b> Jedi Academy</p>    </li>    <li>    <p data-path-to-node="2,1,0"><b data-path-to-node="2,1,0" data-index-in-node="0">Date/Time:</b> May 4, 2026, 6:00 pm – 9:00 pm</p>    </li>    <li>    <p data-path-to-node="2,2,0"><b data-path-to-node="2,2,0" data-index-in-node="0">Location:</b> Manteca Senior Center, 295 Cherry Ln, Manteca, CA 95337</p>    </li>    <li>    <p data-path-to-node="2,3,0"><b data-path-to-node="2,3,0" data-index-in-node="0">Details:</b> May the 4th be with you! Join the Jedi Academy for a night of training and fun.</p>    </li></ul><p>&nbsp;FOR MORE INFO, CONTACT US: 209.456.8600 RECREATION@MANTECA.GOV</p><p>&nbsp;</p>
LOCATION:
CLASS:PUBLIC
END:VEVENT
END:VCALENDAR
