BEGIN:VCALENDAR
VERSION:2.0
PRODID:Manteca, CA Calendar Creator
METHOD:PUBLISH
BEGIN:VEVENT
DTSTAMP:20260224T173500
DTSTART:20260516T180000
DTEND:20260516T210000
SUMMARY:Sunset Skate Comp.
DESCRIPTION:<h3 data-path-to-node="1"><b data-path-to-node="1" data-index-in-node="0">Sunset Skate Comp.</b></h3><ul data-path-to-node="2">    <li>    <p data-path-to-node="2,0,0"><b data-path-to-node="2,0,0" data-index-in-node="0">Title:</b> Sunset Skate Comp.</p>    </li>    <li>    <p data-path-to-node="2,1,0"><b data-path-to-node="2,1,0" data-index-in-node="0">Date and Time:</b> 05/16/2026 6:00 PM - 9:00 PM</p>    </li>    <li>    <p data-path-to-node="2,2,0"><b data-path-to-node="2,2,0" data-index-in-node="0">Introduction:</b> Show off your skills at the Sunset Skate Competition at the Manteca Skate Park!</p>    </li>    <li>    <p data-path-to-node="2,3,0"><b data-path-to-node="2,3,0" data-index-in-node="0">Location:</b> Manteca Skate Park (Center St &amp; Magnolia Ave, Manteca, CA 95337)</p>    </li>    <li>    <p data-path-to-node="2,4,0"><b data-path-to-node="2,4,0" data-index-in-node="0">Details:</b> * <b data-path-to-node="2,4,0" data-index-in-node="11">Time:</b> 6:00 pm – 9:00 pm</p>    <ul data-path-to-node="2,4,1">        <li>        <p data-path-to-node="2,4,1,0,0"><b data-path-to-node="2,4,1,0,0" data-index-in-node="0">Location:</b> Manteca Skate Park</p>        </li>        <li>        <p data-path-to-node="2,4,1,1,0"><b data-path-to-node="2,4,1,1,0" data-index-in-node="0">Contact:</b> 209-456-8600 | recreation@manteca.gov</p>        </li>        <li>        <p data-path-to-node="2,4,1,2,0">Join the local skate community for an evening competition at sunset.</p>        </li>    </ul>    </li></ul>
X-ALT-DESC;FMTTYPE=text/html:<h3 data-path-to-node="1"><b data-path-to-node="1" data-index-in-node="0">Sunset Skate Comp.</b></h3><ul data-path-to-node="2">    <li>    <p data-path-to-node="2,0,0"><b data-path-to-node="2,0,0" data-index-in-node="0">Title:</b> Sunset Skate Comp.</p>    </li>    <li>    <p data-path-to-node="2,1,0"><b data-path-to-node="2,1,0" data-index-in-node="0">Date and Time:</b> 05/16/2026 6:00 PM - 9:00 PM</p>    </li>    <li>    <p data-path-to-node="2,2,0"><b data-path-to-node="2,2,0" data-index-in-node="0">Introduction:</b> Show off your skills at the Sunset Skate Competition at the Manteca Skate Park!</p>    </li>    <li>    <p data-path-to-node="2,3,0"><b data-path-to-node="2,3,0" data-index-in-node="0">Location:</b> Manteca Skate Park (Center St &amp; Magnolia Ave, Manteca, CA 95337)</p>    </li>    <li>    <p data-path-to-node="2,4,0"><b data-path-to-node="2,4,0" data-index-in-node="0">Details:</b> * <b data-path-to-node="2,4,0" data-index-in-node="11">Time:</b> 6:00 pm – 9:00 pm</p>    <ul data-path-to-node="2,4,1">        <li>        <p data-path-to-node="2,4,1,0,0"><b data-path-to-node="2,4,1,0,0" data-index-in-node="0">Location:</b> Manteca Skate Park</p>        </li>        <li>        <p data-path-to-node="2,4,1,1,0"><b data-path-to-node="2,4,1,1,0" data-index-in-node="0">Contact:</b> 209-456-8600 | recreation@manteca.gov</p>        </li>        <li>        <p data-path-to-node="2,4,1,2,0">Join the local skate community for an evening competition at sunset.</p>        </li>    </ul>    </li></ul>
LOCATION:Manteca Skate Park\, Center St manteca\, California 95337
CLASS:PUBLIC
END:VEVENT
END:VCALENDAR
