BEGIN:VCALENDAR
VERSION:2.0
PRODID:Manteca, CA Calendar Creator
METHOD:PUBLISH
BEGIN:VEVENT
DTSTAMP:20260225T225925
DTSTART:20260521T180000
DTEND:20260521T210000
SUMMARY:Music on Maple: Classic Rock
DESCRIPTION:<h3 data-path-to-node="4"><b data-path-to-node="4" data-index-in-node="0">Music on Maple: Classic Rock</b></h3><ul data-path-to-node="6">    <li>    <p data-path-to-node="6,0,0"><b data-path-to-node="6,0,0" data-index-in-node="0">Title:</b> Music on Maple: Amped - Classic Rock</p>    </li>    <li>    <p data-path-to-node="6,1,0"><b data-path-to-node="6,1,0" data-index-in-node="0">Date and Time:</b> 05/21/2026 6:00 PM - 9:00 PM</p>    </li>    <li>    <p data-path-to-node="6,2,0"><b data-path-to-node="6,2,0" data-index-in-node="0">Introduction:</b> Join us downtown for our first Music on Maple of the season, featuring a "Classic Rock" theme!</p>    </li>    <li>    <p data-path-to-node="6,3,0"><b data-path-to-node="6,3,0" data-index-in-node="0">Location:</b> 100 Block N Maple Ave, Manteca, CA 95336</p>    </li>    <li>    <p data-path-to-node="6,4,0"><b data-path-to-node="6,4,0" data-index-in-node="0">Details:</b> * <b data-path-to-node="6,4,0" data-index-in-node="11">Time:</b> 6:00 pm – 9:00 pm</p>    <ul data-path-to-node="6,4,1">        <li>        <p data-path-to-node="6,4,1,0,0"><b data-path-to-node="6,4,1,0,0" data-index-in-node="0">Theme:</b> Amped - Classic Rock</p>        </li>        <li>        <p data-path-to-node="6,4,1,1,0"><b data-path-to-node="6,4,1,1,0" data-index-in-node="0">Location:</b> 100 Block N Maple Ave</p>        </li>        <li>        <p data-path-to-node="6,4,1,2,0"><b data-path-to-node="6,4,1,2,0" data-index-in-node="0">Contact:</b> 209-456-8600 | recreation@manteca.gov</p>        </li>    </ul>    </li></ul>
X-ALT-DESC;FMTTYPE=text/html:<h3 data-path-to-node="4"><b data-path-to-node="4" data-index-in-node="0">Music on Maple: Classic Rock</b></h3><ul data-path-to-node="6">    <li>    <p data-path-to-node="6,0,0"><b data-path-to-node="6,0,0" data-index-in-node="0">Title:</b> Music on Maple: Amped - Classic Rock</p>    </li>    <li>    <p data-path-to-node="6,1,0"><b data-path-to-node="6,1,0" data-index-in-node="0">Date and Time:</b> 05/21/2026 6:00 PM - 9:00 PM</p>    </li>    <li>    <p data-path-to-node="6,2,0"><b data-path-to-node="6,2,0" data-index-in-node="0">Introduction:</b> Join us downtown for our first Music on Maple of the season, featuring a "Classic Rock" theme!</p>    </li>    <li>    <p data-path-to-node="6,3,0"><b data-path-to-node="6,3,0" data-index-in-node="0">Location:</b> 100 Block N Maple Ave, Manteca, CA 95336</p>    </li>    <li>    <p data-path-to-node="6,4,0"><b data-path-to-node="6,4,0" data-index-in-node="0">Details:</b> * <b data-path-to-node="6,4,0" data-index-in-node="11">Time:</b> 6:00 pm – 9:00 pm</p>    <ul data-path-to-node="6,4,1">        <li>        <p data-path-to-node="6,4,1,0,0"><b data-path-to-node="6,4,1,0,0" data-index-in-node="0">Theme:</b> Amped - Classic Rock</p>        </li>        <li>        <p data-path-to-node="6,4,1,1,0"><b data-path-to-node="6,4,1,1,0" data-index-in-node="0">Location:</b> 100 Block N Maple Ave</p>        </li>        <li>        <p data-path-to-node="6,4,1,2,0"><b data-path-to-node="6,4,1,2,0" data-index-in-node="0">Contact:</b> 209-456-8600 | recreation@manteca.gov</p>        </li>    </ul>    </li></ul>
LOCATION:100 Block N Maple Ave\, 100 Block N Maple Ave manteca\, California 95337
CLASS:PUBLIC
END:VEVENT
END:VCALENDAR
