BEGIN:VCALENDAR
VERSION:2.0
PRODID:Manteca, CA Calendar Creator
METHOD:PUBLISH
BEGIN:VEVENT
DTSTAMP:20260225T230205
DTSTART:20260618T180000
DTEND:20260618T210000
SUMMARY:Music on Maple: Reggae
DESCRIPTION:<h3 data-path-to-node="4"><b data-path-to-node="4" data-index-in-node="0">Music on Maple: Reggae</b></h3><ul data-path-to-node="5">    <li>    <p data-path-to-node="5,0,0"><b data-path-to-node="5,0,0" data-index-in-node="0">Title</b>: Music on Maple: Jammin' Manteca - Reggae</p>    </li>    <li>    <p data-path-to-node="5,1,0"><b data-path-to-node="5,1,0" data-index-in-node="0">Date and Time</b>: 06/18/2026 6:00 PM - 9:00 PM</p>    </li>    <li>    <p data-path-to-node="5,2,0"><b data-path-to-node="5,2,0" data-index-in-node="0">Introduction</b>: Join us downtown for a night of island vibes at our "Jammin' Manteca" Reggae concert!</p>    </li>    <li>    <p data-path-to-node="5,3,0"><b data-path-to-node="5,3,0" data-index-in-node="0">Location</b>: 100 Block N Maple Ave Manteca, CA 95336</p>    </li>    <li>    <p data-path-to-node="5,4,0"><b data-path-to-node="5,4,0" data-index-in-node="0">Details</b>:</p>    <ul data-path-to-node="5,4,1">        <li>        <p data-path-to-node="5,4,1,0,0"><b data-path-to-node="5,4,1,0,0" data-index-in-node="0">Time</b>: 6:00 PM – 9:00 PM</p>        </li>        <li>        <p data-path-to-node="5,4,1,1,0"><b data-path-to-node="5,4,1,1,0" data-index-in-node="0">Theme</b>: Jammin' Manteca - Reggae</p>        </li>        <li>        <p data-path-to-node="5,4,1,2,0"><b data-path-to-node="5,4,1,2,0" data-index-in-node="0">Location</b>: 100 Block N Maple Ave</p>        </li>        <li>        <p data-path-to-node="5,4,1,3,0"><b data-path-to-node="5,4,1,3,0" data-index-in-node="0">Contact</b>: 209-456-8600 | recreation@manteca.gov</p>        </li>    </ul>    </li></ul>
X-ALT-DESC;FMTTYPE=text/html:<h3 data-path-to-node="4"><b data-path-to-node="4" data-index-in-node="0">Music on Maple: Reggae</b></h3><ul data-path-to-node="5">    <li>    <p data-path-to-node="5,0,0"><b data-path-to-node="5,0,0" data-index-in-node="0">Title</b>: Music on Maple: Jammin' Manteca - Reggae</p>    </li>    <li>    <p data-path-to-node="5,1,0"><b data-path-to-node="5,1,0" data-index-in-node="0">Date and Time</b>: 06/18/2026 6:00 PM - 9:00 PM</p>    </li>    <li>    <p data-path-to-node="5,2,0"><b data-path-to-node="5,2,0" data-index-in-node="0">Introduction</b>: Join us downtown for a night of island vibes at our "Jammin' Manteca" Reggae concert!</p>    </li>    <li>    <p data-path-to-node="5,3,0"><b data-path-to-node="5,3,0" data-index-in-node="0">Location</b>: 100 Block N Maple Ave Manteca, CA 95336</p>    </li>    <li>    <p data-path-to-node="5,4,0"><b data-path-to-node="5,4,0" data-index-in-node="0">Details</b>:</p>    <ul data-path-to-node="5,4,1">        <li>        <p data-path-to-node="5,4,1,0,0"><b data-path-to-node="5,4,1,0,0" data-index-in-node="0">Time</b>: 6:00 PM – 9:00 PM</p>        </li>        <li>        <p data-path-to-node="5,4,1,1,0"><b data-path-to-node="5,4,1,1,0" data-index-in-node="0">Theme</b>: Jammin' Manteca - Reggae</p>        </li>        <li>        <p data-path-to-node="5,4,1,2,0"><b data-path-to-node="5,4,1,2,0" data-index-in-node="0">Location</b>: 100 Block N Maple Ave</p>        </li>        <li>        <p data-path-to-node="5,4,1,3,0"><b data-path-to-node="5,4,1,3,0" data-index-in-node="0">Contact</b>: 209-456-8600 | recreation@manteca.gov</p>        </li>    </ul>    </li></ul>
LOCATION:100 Block N Maple Ave\, 100 Block N Maple Ave manteca\, California 95337
CLASS:PUBLIC
END:VEVENT
END:VCALENDAR
