BEGIN:VCALENDAR
VERSION:2.0
PRODID:Manteca, CA Calendar Creator
METHOD:PUBLISH
BEGIN:VEVENT
DTSTAMP:20260225T230225
DTSTART:20260716T180000
DTEND:20260716T210000
SUMMARY:Music on Maple: The Country Classic
DESCRIPTION:<h3 data-path-to-node="1"><b data-path-to-node="1" data-index-in-node="0">Music on Maple: Country</b></h3><ul data-path-to-node="2">    <li>    <p data-path-to-node="2,0,0"><b data-path-to-node="2,0,0" data-index-in-node="0">Title</b>: Music on Maple: The Country Classic</p>    </li>    <li>    <p data-path-to-node="2,1,0"><b data-path-to-node="2,1,0" data-index-in-node="0">Date and Time</b>: 07/16/2026 6:00 PM – 9:00 PM</p>    </li>    <li>    <p data-path-to-node="2,2,0"><b data-path-to-node="2,2,0" data-index-in-node="0">Introduction</b>: Grab your boots and join us downtown for "The Country Classic" night of our Music on Maple series!</p>    </li>    <li>    <p data-path-to-node="2,3,0"><b data-path-to-node="2,3,0" data-index-in-node="0">Location</b>: 100 Block N Maple Ave, Manteca, CA 95336</p>    </li>    <li>    <p data-path-to-node="2,4,0"><b data-path-to-node="2,4,0" data-index-in-node="0">Details</b>:</p>    <ul data-path-to-node="2,4,1">        <li>        <p data-path-to-node="2,4,1,0,0"><b data-path-to-node="2,4,1,0,0" data-index-in-node="0">Time</b>: 6:00 PM – 9:00 PM</p>        </li>        <li>        <p data-path-to-node="2,4,1,1,0"><b data-path-to-node="2,4,1,1,0" data-index-in-node="0">Theme</b>: The Country Classic</p>        </li>        <li>        <p data-path-to-node="2,4,1,2,0"><b data-path-to-node="2,4,1,2,0" data-index-in-node="0">Location</b>: 100 Block N Maple Ave</p>        </li>        <li>        <p data-path-to-node="2,4,1,3,0"><b data-path-to-node="2,4,1,3,0" data-index-in-node="0">Contact</b>: 209-456-8600 | recreation@manteca.gov</p>        </li>    </ul>    </li></ul>
X-ALT-DESC;FMTTYPE=text/html:<h3 data-path-to-node="1"><b data-path-to-node="1" data-index-in-node="0">Music on Maple: Country</b></h3><ul data-path-to-node="2">    <li>    <p data-path-to-node="2,0,0"><b data-path-to-node="2,0,0" data-index-in-node="0">Title</b>: Music on Maple: The Country Classic</p>    </li>    <li>    <p data-path-to-node="2,1,0"><b data-path-to-node="2,1,0" data-index-in-node="0">Date and Time</b>: 07/16/2026 6:00 PM – 9:00 PM</p>    </li>    <li>    <p data-path-to-node="2,2,0"><b data-path-to-node="2,2,0" data-index-in-node="0">Introduction</b>: Grab your boots and join us downtown for "The Country Classic" night of our Music on Maple series!</p>    </li>    <li>    <p data-path-to-node="2,3,0"><b data-path-to-node="2,3,0" data-index-in-node="0">Location</b>: 100 Block N Maple Ave, Manteca, CA 95336</p>    </li>    <li>    <p data-path-to-node="2,4,0"><b data-path-to-node="2,4,0" data-index-in-node="0">Details</b>:</p>    <ul data-path-to-node="2,4,1">        <li>        <p data-path-to-node="2,4,1,0,0"><b data-path-to-node="2,4,1,0,0" data-index-in-node="0">Time</b>: 6:00 PM – 9:00 PM</p>        </li>        <li>        <p data-path-to-node="2,4,1,1,0"><b data-path-to-node="2,4,1,1,0" data-index-in-node="0">Theme</b>: The Country Classic</p>        </li>        <li>        <p data-path-to-node="2,4,1,2,0"><b data-path-to-node="2,4,1,2,0" data-index-in-node="0">Location</b>: 100 Block N Maple Ave</p>        </li>        <li>        <p data-path-to-node="2,4,1,3,0"><b data-path-to-node="2,4,1,3,0" data-index-in-node="0">Contact</b>: 209-456-8600 | recreation@manteca.gov</p>        </li>    </ul>    </li></ul>
LOCATION:100 Block N Maple Ave\, 100 Block N Maple Ave manteca\, California 95337
CLASS:PUBLIC
END:VEVENT
END:VCALENDAR
