BEGIN:VCALENDAR
VERSION:2.0
PRODID:Manteca, CA Calendar Creator
METHOD:PUBLISH
BEGIN:VEVENT
DTSTAMP:20260225T230253
DTSTART:20260717T070000
DTEND:20260717T235900
SUMMARY:Golf Tour
DESCRIPTION:<h3 data-path-to-node="4"><b data-path-to-node="4" data-index-in-node="0">Golf Tour</b></h3><ul data-path-to-node="5">    <li>    <p data-path-to-node="5,0,0"><b data-path-to-node="5,0,0" data-index-in-node="0">Title</b>: Golf Tour</p>    </li>    <li>    <p data-path-to-node="5,1,0"><b data-path-to-node="5,1,0" data-index-in-node="0">Date and Time</b>: 07/17/2026 7:00 AM</p>    </li>    <li>    <p data-path-to-node="5,2,0"><b data-path-to-node="5,2,0" data-index-in-node="0">Introduction</b>: Join us for the annual City Golf Tour at the Manteca Golf Course!</p>    </li>    <li>    <p data-path-to-node="5,3,0"><b data-path-to-node="5,3,0" data-index-in-node="0">Location</b>: Manteca Golf Course, 305 N Union Rd, Manteca, CA 95337</p>    </li>    <li>    <p data-path-to-node="5,4,0"><b data-path-to-node="5,4,0" data-index-in-node="0">Details</b>:</p>    <ul data-path-to-node="5,4,1">        <li>        <p data-path-to-node="5,4,1,0,0"><b data-path-to-node="5,4,1,0,0" data-index-in-node="0">Tee off time</b>: 7:00 AM</p>        </li>        <li>        <p data-path-to-node="5,4,1,1,0"><b data-path-to-node="5,4,1,1,0" data-index-in-node="0">Location</b>: Manteca Golf Course</p>        </li>        <li>        <p data-path-to-node="5,4,1,2,0"><b data-path-to-node="5,4,1,2,0" data-index-in-node="0">Contact</b>: 209-456-8600 | recreation@manteca.gov</p>        </li>    </ul>    </li></ul>
X-ALT-DESC;FMTTYPE=text/html:<h3 data-path-to-node="4"><b data-path-to-node="4" data-index-in-node="0">Golf Tour</b></h3><ul data-path-to-node="5">    <li>    <p data-path-to-node="5,0,0"><b data-path-to-node="5,0,0" data-index-in-node="0">Title</b>: Golf Tour</p>    </li>    <li>    <p data-path-to-node="5,1,0"><b data-path-to-node="5,1,0" data-index-in-node="0">Date and Time</b>: 07/17/2026 7:00 AM</p>    </li>    <li>    <p data-path-to-node="5,2,0"><b data-path-to-node="5,2,0" data-index-in-node="0">Introduction</b>: Join us for the annual City Golf Tour at the Manteca Golf Course!</p>    </li>    <li>    <p data-path-to-node="5,3,0"><b data-path-to-node="5,3,0" data-index-in-node="0">Location</b>: Manteca Golf Course, 305 N Union Rd, Manteca, CA 95337</p>    </li>    <li>    <p data-path-to-node="5,4,0"><b data-path-to-node="5,4,0" data-index-in-node="0">Details</b>:</p>    <ul data-path-to-node="5,4,1">        <li>        <p data-path-to-node="5,4,1,0,0"><b data-path-to-node="5,4,1,0,0" data-index-in-node="0">Tee off time</b>: 7:00 AM</p>        </li>        <li>        <p data-path-to-node="5,4,1,1,0"><b data-path-to-node="5,4,1,1,0" data-index-in-node="0">Location</b>: Manteca Golf Course</p>        </li>        <li>        <p data-path-to-node="5,4,1,2,0"><b data-path-to-node="5,4,1,2,0" data-index-in-node="0">Contact</b>: 209-456-8600 | recreation@manteca.gov</p>        </li>    </ul>    </li></ul>
LOCATION:Manteca Golf Course\, 305 N Union Rd Manteca\, California 95337
CLASS:PUBLIC
END:VEVENT
END:VCALENDAR
