BEGIN:VCALENDAR
VERSION:2.0
PRODID:Manteca, CA Calendar Creator
METHOD:PUBLISH
BEGIN:VEVENT
DTSTAMP:20260225T230313
DTSTART:20260723T140000
DTEND:20260723T180000
SUMMARY:Parky’s Picnic
DESCRIPTION:<h3 data-path-to-node="7"><b data-path-to-node="7" data-index-in-node="0">Parky’s Picnic</b></h3><ul data-path-to-node="8">    <li>    <p data-path-to-node="8,0,0"><b data-path-to-node="8,0,0" data-index-in-node="0">Title</b>: Parky’s Picnic</p>    </li>    <li>    <p data-path-to-node="8,1,0"><b data-path-to-node="8,1,0" data-index-in-node="0">Date and Time</b>: 07/23/2026 2:00 PM – 6:00 PM</p>    </li>    <li>    <p data-path-to-node="8,2,0"><b data-path-to-node="8,2,0" data-index-in-node="0">Introduction</b>: Bring the whole family to Woodward Park for Parky’s Picnic, a day of outdoor community fun!</p>    </li>    <li>    <p data-path-to-node="8,3,0"><b data-path-to-node="8,3,0" data-index-in-node="0">Location</b>: Woodward Park, 710 E Woodward Ave, Manteca, CA 95337</p>    </li>    <li>    <p data-path-to-node="8,4,0"><b data-path-to-node="8,4,0" data-index-in-node="0">Details</b>:</p>    <ul data-path-to-node="8,4,1">        <li>        <p data-path-to-node="8,4,1,0,0"><b data-path-to-node="8,4,1,0,0" data-index-in-node="0">Time</b>: 2:00 PM – 6:00 PM</p>        </li>        <li>        <p data-path-to-node="8,4,1,1,0"><b data-path-to-node="8,4,1,1,0" data-index-in-node="0">Location</b>: Woodward Park</p>        </li>        <li>        <p data-path-to-node="8,4,1,2,0"><b data-path-to-node="8,4,1,2,0" data-index-in-node="0">Contact</b>: 209-456-8600 | recreation@manteca.gov</p>        </li>    </ul>    </li></ul>
X-ALT-DESC;FMTTYPE=text/html:<h3 data-path-to-node="7"><b data-path-to-node="7" data-index-in-node="0">Parky’s Picnic</b></h3><ul data-path-to-node="8">    <li>    <p data-path-to-node="8,0,0"><b data-path-to-node="8,0,0" data-index-in-node="0">Title</b>: Parky’s Picnic</p>    </li>    <li>    <p data-path-to-node="8,1,0"><b data-path-to-node="8,1,0" data-index-in-node="0">Date and Time</b>: 07/23/2026 2:00 PM – 6:00 PM</p>    </li>    <li>    <p data-path-to-node="8,2,0"><b data-path-to-node="8,2,0" data-index-in-node="0">Introduction</b>: Bring the whole family to Woodward Park for Parky’s Picnic, a day of outdoor community fun!</p>    </li>    <li>    <p data-path-to-node="8,3,0"><b data-path-to-node="8,3,0" data-index-in-node="0">Location</b>: Woodward Park, 710 E Woodward Ave, Manteca, CA 95337</p>    </li>    <li>    <p data-path-to-node="8,4,0"><b data-path-to-node="8,4,0" data-index-in-node="0">Details</b>:</p>    <ul data-path-to-node="8,4,1">        <li>        <p data-path-to-node="8,4,1,0,0"><b data-path-to-node="8,4,1,0,0" data-index-in-node="0">Time</b>: 2:00 PM – 6:00 PM</p>        </li>        <li>        <p data-path-to-node="8,4,1,1,0"><b data-path-to-node="8,4,1,1,0" data-index-in-node="0">Location</b>: Woodward Park</p>        </li>        <li>        <p data-path-to-node="8,4,1,2,0"><b data-path-to-node="8,4,1,2,0" data-index-in-node="0">Contact</b>: 209-456-8600 | recreation@manteca.gov</p>        </li>    </ul>    </li></ul>
LOCATION:Woodward Park\, 710 E Woodward Ave Manteca\, California 95337
CLASS:PUBLIC
END:VEVENT
END:VCALENDAR
